BEGIN:VCALENDAR
VERSION:2.0
PRODID:-//My Calendar//http://www.joedolson.com//v3.0.13//EN
METHOD:PUBLISH
CALSCALE:GREGORIAN
X-WR-CALNAME:Morgan Family Revival 
X-PUBLISHED-TTL:PT24H
REFRESH-INTERVAL;VALUE=DURATION:PT24H
X-WR-CALDESC:Events from Morgan Family Revival 
BEGIN:VEVENT
UID:895-93
LOCATION:
SUMMARY:REVIVAL AT BELIEVERS GRACE FELLOWSHIP
DTSTAMP:20181102T180000
ORGANIZER;CN=admin:MAILTO:crossandcrowncc@yahoo.com
DTSTART;TZID=America/Phoenix:20181102T180000
DTEND;TZID=America/Phoenix:20181102T200000
URL;VALUE=URI:https://www.morganfamilyrevival.com/my-calendar/
DESCRIPTION:The Morgans will be ministering revival in Anna, Illinois beginning on November 2nd through the 4th.   Three services starting each night at 6: P.M.  with Pastor David Adams.Hope to see you there.For more information contact Pastor David Adams @ 618-614-2946&nbsp; 
CATEGORIES:General
END:VEVENT
BEGIN:VEVENT
UID:896-94
LOCATION:
SUMMARY:REVIVAL AT BELIEVERS GRACE FELLOWSHIP
DTSTAMP:20181104T180000
ORGANIZER;CN=admin:MAILTO:crossandcrowncc@yahoo.com
DTSTART;TZID=America/Phoenix:20181104T180000
DTEND;TZID=America/Phoenix:20181104T200000
URL;VALUE=URI:https://www.morganfamilyrevival.com/my-calendar/
DESCRIPTION:The Morgans will be ministering revival in Anna, Illinois beginning on November 2nd through the 4th.   Three services starting each night at 6: P.M.  with Pastor David Adams.Hope to see you there.For more information contact Pastor David Adams @ 618-614-2946&nbsp; 
CATEGORIES:General
END:VEVENT
BEGIN:VEVENT
UID:897-95
LOCATION:
SUMMARY:REVIVAL AT BELIEVERS GRACE FELLOWSHIP
DTSTAMP:20181103T180000
ORGANIZER;CN=admin:MAILTO:crossandcrowncc@yahoo.com
DTSTART;TZID=America/Phoenix:20181103T180000
DTEND;TZID=America/Phoenix:20181103T200000
URL;VALUE=URI:https://www.morganfamilyrevival.com/my-calendar/
DESCRIPTION:The Morgans will be ministering revival in Anna, Illinois beginning on November 2nd through the 4th.   Three services starting each night at 6: P.M.  with Pastor David Adams.Hope to see you there.For more information contact Pastor David Adams @ 618-614-2946&nbsp; 
CATEGORIES:General
END:VEVENT
BEGIN:VEVENT
UID:893-91
LOCATION:Cross and Crown CITY CHURCH 510 Park Avenue  Newport KY 41071
SUMMARY:Evening Praise and Worship Service
DTSTAMP:20181226T190000
ORGANIZER;CN=admin:MAILTO:crossandcrowncc@yahoo.com
DTSTART;TZID=America/Phoenix:20181226T190000
DTEND;TZID=America/Phoenix:20181226T203000
URL;VALUE=URI:https://www.morganfamilyrevival.com/my-calendar/
DESCRIPTION:The Morgans and The Woosleys will be ministering by Word and Music. 
CATEGORIES:General
END:VEVENT
BEGIN:VEVENT
UID:892-90
LOCATION:Cross and Crown CITY CHURCH 510 Park Avenue  Newport KY 41071
SUMMARY:Evening Praise and Worship Service
DTSTAMP:20181219T190000
ORGANIZER;CN=admin:MAILTO:crossandcrowncc@yahoo.com
DTSTART;TZID=America/Phoenix:20181219T190000
DTEND;TZID=America/Phoenix:20181219T203000
URL;VALUE=URI:https://www.morganfamilyrevival.com/my-calendar/
DESCRIPTION:The Morgans and The Woosleys will be ministering by Word and Music. 
CATEGORIES:General
END:VEVENT
BEGIN:VEVENT
UID:891-89
LOCATION:Cross and Crown CITY CHURCH 510 Park Avenue  Newport KY 41071
SUMMARY:Evening Praise and Worship Service
DTSTAMP:20181212T190000
ORGANIZER;CN=admin:MAILTO:crossandcrowncc@yahoo.com
DTSTART;TZID=America/Phoenix:20181212T190000
DTEND;TZID=America/Phoenix:20181212T203000
URL;VALUE=URI:https://www.morganfamilyrevival.com/my-calendar/
DESCRIPTION:The Morgans and The Woosleys will be ministering by Word and Music. 
CATEGORIES:General
END:VEVENT
BEGIN:VEVENT
UID:890-88
LOCATION:Cross and Crown CITY CHURCH 510 Park Avenue  Newport KY 41071
SUMMARY:Evening Praise and Worship Service
DTSTAMP:20181205T190000
ORGANIZER;CN=admin:MAILTO:crossandcrowncc@yahoo.com
DTSTART;TZID=America/Phoenix:20181205T190000
DTEND;TZID=America/Phoenix:20181205T203000
URL;VALUE=URI:https://www.morganfamilyrevival.com/my-calendar/
DESCRIPTION:The Morgans and The Woosleys will be ministering by Word and Music. 
CATEGORIES:General
END:VEVENT
BEGIN:VEVENT
UID:889-87
LOCATION:Cross and Crown CITY CHURCH 510 Park Avenue  Newport KY 41071
SUMMARY:Evening Praise and Worship Service
DTSTAMP:20181128T190000
ORGANIZER;CN=admin:MAILTO:crossandcrowncc@yahoo.com
DTSTART;TZID=America/Phoenix:20181128T190000
DTEND;TZID=America/Phoenix:20181128T203000
URL;VALUE=URI:https://www.morganfamilyrevival.com/my-calendar/
DESCRIPTION:The Morgans and The Woosleys will be ministering by Word and Music. 
CATEGORIES:General
END:VEVENT
BEGIN:VEVENT
UID:888-86
LOCATION:Cross and Crown CITY CHURCH 510 Park Avenue  Newport KY 41071
SUMMARY:Evening Praise and Worship Service
DTSTAMP:20181121T190000
ORGANIZER;CN=admin:MAILTO:crossandcrowncc@yahoo.com
DTSTART;TZID=America/Phoenix:20181121T190000
DTEND;TZID=America/Phoenix:20181121T203000
URL;VALUE=URI:https://www.morganfamilyrevival.com/my-calendar/
DESCRIPTION:The Morgans and The Woosleys will be ministering by Word and Music. 
CATEGORIES:General
END:VEVENT
BEGIN:VEVENT
UID:887-85
LOCATION:Cross and Crown CITY CHURCH 510 Park Avenue  Newport KY 41071
SUMMARY:Evening Praise and Worship Service
DTSTAMP:20181114T190000
ORGANIZER;CN=admin:MAILTO:crossandcrowncc@yahoo.com
DTSTART;TZID=America/Phoenix:20181114T190000
DTEND;TZID=America/Phoenix:20181114T203000
URL;VALUE=URI:https://www.morganfamilyrevival.com/my-calendar/
DESCRIPTION:The Morgans and The Woosleys will be ministering by Word and Music. 
CATEGORIES:General
END:VEVENT
BEGIN:VEVENT
UID:886-84
LOCATION:Cross and Crown CITY CHURCH 510 Park Avenue  Newport KY 41071
SUMMARY:Evening Praise and Worship Service
DTSTAMP:20181107T190000
ORGANIZER;CN=admin:MAILTO:crossandcrowncc@yahoo.com
DTSTART;TZID=America/Phoenix:20181107T190000
DTEND;TZID=America/Phoenix:20181107T203000
URL;VALUE=URI:https://www.morganfamilyrevival.com/my-calendar/
DESCRIPTION:The Morgans and The Woosleys will be ministering by Word and Music. 
CATEGORIES:General
END:VEVENT
BEGIN:VEVENT
UID:885-83
LOCATION:Cross and Crown CITY CHURCH 510 Park Avenue  Newport KY 41071
SUMMARY:Evening Praise and Worship Service
DTSTAMP:20181031T190000
ORGANIZER;CN=admin:MAILTO:crossandcrowncc@yahoo.com
DTSTART;TZID=America/Phoenix:20181031T190000
DTEND;TZID=America/Phoenix:20181031T203000
URL;VALUE=URI:https://www.morganfamilyrevival.com/my-calendar/
DESCRIPTION:The Morgans and The Woosleys will be ministering by Word and Music. 
CATEGORIES:General
END:VEVENT
BEGIN:VEVENT
UID:884-82
LOCATION:Cross and Crown CITY CHURCH 510 Park Avenue  Newport KY 41071
SUMMARY:Evening Praise and Worship Service
DTSTAMP:20181024T190000
ORGANIZER;CN=admin:MAILTO:crossandcrowncc@yahoo.com
DTSTART;TZID=America/Phoenix:20181024T190000
DTEND;TZID=America/Phoenix:20181024T203000
URL;VALUE=URI:https://www.morganfamilyrevival.com/my-calendar/
DESCRIPTION:The Morgans and The Woosleys will be ministering by Word and Music. 
CATEGORIES:General
END:VEVENT
BEGIN:VEVENT
UID:883-81
LOCATION:Cross and Crown CITY CHURCH 510 Park Avenue  Newport KY 41071
SUMMARY:Evening Praise and Worship Service
DTSTAMP:20181017T190000
ORGANIZER;CN=admin:MAILTO:crossandcrowncc@yahoo.com
DTSTART;TZID=America/Phoenix:20181017T190000
DTEND;TZID=America/Phoenix:20181017T203000
URL;VALUE=URI:https://www.morganfamilyrevival.com/my-calendar/
DESCRIPTION:The Morgans and The Woosleys will be ministering by Word and Music. 
CATEGORIES:General
END:VEVENT
BEGIN:VEVENT
UID:882-80
LOCATION:Cross and Crown CITY CHURCH 510 Park Avenue  Newport KY 41071
SUMMARY:Evening Praise and Worship Service
DTSTAMP:20181010T190000
ORGANIZER;CN=admin:MAILTO:crossandcrowncc@yahoo.com
DTSTART;TZID=America/Phoenix:20181010T190000
DTEND;TZID=America/Phoenix:20181010T203000
URL;VALUE=URI:https://www.morganfamilyrevival.com/my-calendar/
DESCRIPTION:The Morgans and The Woosleys will be ministering by Word and Music. 
CATEGORIES:General
END:VEVENT
BEGIN:VEVENT
UID:881-79
LOCATION:Cross and Crown CITY CHURCH 510 Park Avenue  Newport KY 41071
SUMMARY:Evening Praise and Worship Service
DTSTAMP:20181003T190000
ORGANIZER;CN=admin:MAILTO:crossandcrowncc@yahoo.com
DTSTART;TZID=America/Phoenix:20181003T190000
DTEND;TZID=America/Phoenix:20181003T203000
URL;VALUE=URI:https://www.morganfamilyrevival.com/my-calendar/
DESCRIPTION:The Morgans and The Woosleys will be ministering by Word and Music. 
CATEGORIES:General
END:VEVENT
BEGIN:VEVENT
UID:869-67
LOCATION:Cross and Crown CITY CHURCH 510 Park Avenue  Newport KY 41071
SUMMARY:Evening Praise and Worship Service
DTSTAMP:20181021T180000
ORGANIZER;CN=admin:MAILTO:crossandcrowncc@yahoo.com
DTSTART;TZID=America/Phoenix:20181021T180000
DTEND;TZID=America/Phoenix:20181021T193000
URL;VALUE=URI:https://www.morganfamilyrevival.com/my-calendar/
DESCRIPTION:The Morgans and The Woosleys will be ministering by Word and Music. 
CATEGORIES:General
END:VEVENT
BEGIN:VEVENT
UID:879-77
LOCATION:Cross and Crown CITY CHURCH 510 Park Avenue  Newport KY 41071
SUMMARY:Evening Praise and Worship Service
DTSTAMP:20181230T180000
ORGANIZER;CN=admin:MAILTO:crossandcrowncc@yahoo.com
DTSTART;TZID=America/Phoenix:20181230T180000
DTEND;TZID=America/Phoenix:20181230T193000
URL;VALUE=URI:https://www.morganfamilyrevival.com/my-calendar/
DESCRIPTION:The Morgans and The Woosleys will be ministering by Word and Music. 
CATEGORIES:General
END:VEVENT
BEGIN:VEVENT
UID:864-62
LOCATION:Cross and Crown CITY CHURCH 510 Park Avenue  Newport KY 41071
SUMMARY:Praise and Worship Service
DTSTAMP:20181230T103000
ORGANIZER;CN=admin:MAILTO:crossandcrowncc@yahoo.com
DTSTART;TZID=America/Phoenix:20181230T103000
DTEND;TZID=America/Phoenix:20181230T123000
URL;VALUE=URI:https://www.morganfamilyrevival.com/my-calendar/
DESCRIPTION:The Morgans and The Woosleys will be ministering by Word and Music. 
CATEGORIES:General
END:VEVENT
BEGIN:VEVENT
UID:878-76
LOCATION:Cross and Crown CITY CHURCH 510 Park Avenue  Newport KY 41071
SUMMARY:Evening Praise and Worship Service
DTSTAMP:20181223T180000
ORGANIZER;CN=admin:MAILTO:crossandcrowncc@yahoo.com
DTSTART;TZID=America/Phoenix:20181223T180000
DTEND;TZID=America/Phoenix:20181223T193000
URL;VALUE=URI:https://www.morganfamilyrevival.com/my-calendar/
DESCRIPTION:The Morgans and The Woosleys will be ministering by Word and Music. 
CATEGORIES:General
END:VEVENT
BEGIN:VEVENT
UID:877-75
LOCATION:Cross and Crown CITY CHURCH 510 Park Avenue  Newport KY 41071
SUMMARY:Evening Praise and Worship Service
DTSTAMP:20181216T180000
ORGANIZER;CN=admin:MAILTO:crossandcrowncc@yahoo.com
DTSTART;TZID=America/Phoenix:20181216T180000
DTEND;TZID=America/Phoenix:20181216T193000
URL;VALUE=URI:https://www.morganfamilyrevival.com/my-calendar/
DESCRIPTION:The Morgans and The Woosleys will be ministering by Word and Music. 
CATEGORIES:General
END:VEVENT
BEGIN:VEVENT
UID:876-74
LOCATION:Cross and Crown CITY CHURCH 510 Park Avenue  Newport KY 41071
SUMMARY:Evening Praise and Worship Service
DTSTAMP:20181209T180000
ORGANIZER;CN=admin:MAILTO:crossandcrowncc@yahoo.com
DTSTART;TZID=America/Phoenix:20181209T180000
DTEND;TZID=America/Phoenix:20181209T193000
URL;VALUE=URI:https://www.morganfamilyrevival.com/my-calendar/
DESCRIPTION:The Morgans and The Woosleys will be ministering by Word and Music. 
CATEGORIES:General
END:VEVENT
BEGIN:VEVENT
UID:875-73
LOCATION:Cross and Crown CITY CHURCH 510 Park Avenue  Newport KY 41071
SUMMARY:Evening Praise and Worship Service
DTSTAMP:20181202T180000
ORGANIZER;CN=admin:MAILTO:crossandcrowncc@yahoo.com
DTSTART;TZID=America/Phoenix:20181202T180000
DTEND;TZID=America/Phoenix:20181202T193000
URL;VALUE=URI:https://www.morganfamilyrevival.com/my-calendar/
DESCRIPTION:The Morgans and The Woosleys will be ministering by Word and Music. 
CATEGORIES:General
END:VEVENT
BEGIN:VEVENT
UID:874-72
LOCATION:Cross and Crown CITY CHURCH 510 Park Avenue  Newport KY 41071
SUMMARY:Evening Praise and Worship Service
DTSTAMP:20181125T180000
ORGANIZER;CN=admin:MAILTO:crossandcrowncc@yahoo.com
DTSTART;TZID=America/Phoenix:20181125T180000
DTEND;TZID=America/Phoenix:20181125T193000
URL;VALUE=URI:https://www.morganfamilyrevival.com/my-calendar/
DESCRIPTION:The Morgans and The Woosleys will be ministering by Word and Music. 
CATEGORIES:General
END:VEVENT
BEGIN:VEVENT
UID:873-71
LOCATION:Cross and Crown CITY CHURCH 510 Park Avenue  Newport KY 41071
SUMMARY:Evening Praise and Worship Service
DTSTAMP:20181118T180000
ORGANIZER;CN=admin:MAILTO:crossandcrowncc@yahoo.com
DTSTART;TZID=America/Phoenix:20181118T180000
DTEND;TZID=America/Phoenix:20181118T193000
URL;VALUE=URI:https://www.morganfamilyrevival.com/my-calendar/
DESCRIPTION:The Morgans and The Woosleys will be ministering by Word and Music. 
CATEGORIES:General
END:VEVENT
BEGIN:VEVENT
UID:872-70
LOCATION:Cross and Crown CITY CHURCH 510 Park Avenue  Newport KY 41071
SUMMARY:Evening Praise and Worship Service
DTSTAMP:20181111T180000
ORGANIZER;CN=admin:MAILTO:crossandcrowncc@yahoo.com
DTSTART;TZID=America/Phoenix:20181111T180000
DTEND;TZID=America/Phoenix:20181111T193000
URL;VALUE=URI:https://www.morganfamilyrevival.com/my-calendar/
DESCRIPTION:The Morgans and The Woosleys will be ministering by Word and Music. 
CATEGORIES:General
END:VEVENT
BEGIN:VEVENT
UID:870-68
LOCATION:Cross and Crown CITY CHURCH 510 Park Avenue  Newport KY 41071
SUMMARY:Evening Praise and Worship Service
DTSTAMP:20181028T180000
ORGANIZER;CN=admin:MAILTO:crossandcrowncc@yahoo.com
DTSTART;TZID=America/Phoenix:20181028T180000
DTEND;TZID=America/Phoenix:20181028T193000
URL;VALUE=URI:https://www.morganfamilyrevival.com/my-calendar/
DESCRIPTION:The Morgans and The Woosleys will be ministering by Word and Music. 
CATEGORIES:General
END:VEVENT
BEGIN:VEVENT
UID:866-64
LOCATION:Cross and Crown CITY CHURCH 510 Park Avenue  Newport KY 41071
SUMMARY:Praise and Worship Service
DTSTAMP:20181028T103000
ORGANIZER;CN=admin:MAILTO:crossandcrowncc@yahoo.com
DTSTART;TZID=America/Phoenix:20181028T103000
DTEND;TZID=America/Phoenix:20181028T123000
URL;VALUE=URI:https://www.morganfamilyrevival.com/my-calendar/
DESCRIPTION:The Morgans and The Woosleys will be ministering by Word and Music. 
CATEGORIES:General
END:VEVENT
BEGIN:VEVENT
UID:868-66
LOCATION:Cross and Crown CITY CHURCH 510 Park Avenue  Newport KY 41071
SUMMARY:Evening Praise and Worship Service
DTSTAMP:20181014T180000
ORGANIZER;CN=admin:MAILTO:crossandcrowncc@yahoo.com
DTSTART;TZID=America/Phoenix:20181014T180000
DTEND;TZID=America/Phoenix:20181014T193000
URL;VALUE=URI:https://www.morganfamilyrevival.com/my-calendar/
DESCRIPTION:The Morgans and The Woosleys will be ministering by Word and Music. 
CATEGORIES:General
END:VEVENT
BEGIN:VEVENT
UID:867-65
LOCATION:Cross and Crown CITY CHURCH 510 Park Avenue  Newport KY 41071
SUMMARY:Evening Praise and Worship Service
DTSTAMP:20181007T180000
ORGANIZER;CN=admin:MAILTO:crossandcrowncc@yahoo.com
DTSTART;TZID=America/Phoenix:20181007T180000
DTEND;TZID=America/Phoenix:20181007T193000
URL;VALUE=URI:https://www.morganfamilyrevival.com/my-calendar/
DESCRIPTION:The Morgans and The Woosleys will be ministering by Word and Music. 
CATEGORIES:General
END:VEVENT
END:VCALENDAR