BEGIN:VCALENDAR
VERSION:2.0
PRODID:-//My Calendar//http://www.joedolson.com//v3.0.13//EN
METHOD:PUBLISH
CALSCALE:GREGORIAN
X-WR-CALNAME:Morgan Family Revival 
X-PUBLISHED-TTL:PT24H
REFRESH-INTERVAL;VALUE=DURATION:PT24H
X-WR-CALDESC:Events from Morgan Family Revival 
BEGIN:VEVENT
UID:895-93
LOCATION:
SUMMARY:REVIVAL AT BELIEVERS GRACE FELLOWSHIP
DTSTAMP:20181103T010000Z
ORGANIZER;CN=admin:MAILTO:crossandcrowncc@yahoo.com
DTSTART;TZID=America/Phoenix:20181103T010000Z
DTEND;TZID=America/Phoenix:20181103T030000Z
URL;VALUE=URI:https://www.morganfamilyrevival.com/my-calendar/
DESCRIPTION:The Morgans will be ministering revival in Anna, Illinois beginning on November 2nd through the 4th.   Three services starting each night at 6: P.M.  with Pastor David Adams.Hope to see you there.For more information contact Pastor David Adams @ 618-614-2946&nbsp; 
CATEGORIES:General
END:VEVENT
BEGIN:VEVENT
UID:896-94
LOCATION:
SUMMARY:REVIVAL AT BELIEVERS GRACE FELLOWSHIP
DTSTAMP:20181105T010000Z
ORGANIZER;CN=admin:MAILTO:crossandcrowncc@yahoo.com
DTSTART;TZID=America/Phoenix:20181105T010000Z
DTEND;TZID=America/Phoenix:20181105T030000Z
URL;VALUE=URI:https://www.morganfamilyrevival.com/my-calendar/
DESCRIPTION:The Morgans will be ministering revival in Anna, Illinois beginning on November 2nd through the 4th.   Three services starting each night at 6: P.M.  with Pastor David Adams.Hope to see you there.For more information contact Pastor David Adams @ 618-614-2946&nbsp; 
CATEGORIES:General
END:VEVENT
BEGIN:VEVENT
UID:897-95
LOCATION:
SUMMARY:REVIVAL AT BELIEVERS GRACE FELLOWSHIP
DTSTAMP:20181104T010000Z
ORGANIZER;CN=admin:MAILTO:crossandcrowncc@yahoo.com
DTSTART;TZID=America/Phoenix:20181104T010000Z
DTEND;TZID=America/Phoenix:20181104T030000Z
URL;VALUE=URI:https://www.morganfamilyrevival.com/my-calendar/
DESCRIPTION:The Morgans will be ministering revival in Anna, Illinois beginning on November 2nd through the 4th.   Three services starting each night at 6: P.M.  with Pastor David Adams.Hope to see you there.For more information contact Pastor David Adams @ 618-614-2946&nbsp; 
CATEGORIES:General
END:VEVENT
BEGIN:VEVENT
UID:893-91
LOCATION:Cross and Crown CITY CHURCH 510 Park Avenue  Newport KY 41071
SUMMARY:Evening Praise and Worship Service
DTSTAMP:20181227T020000Z
ORGANIZER;CN=admin:MAILTO:crossandcrowncc@yahoo.com
DTSTART;TZID=America/Phoenix:20181227T020000Z
DTEND;TZID=America/Phoenix:20181227T033000Z
URL;VALUE=URI:https://www.morganfamilyrevival.com/my-calendar/
DESCRIPTION:The Morgans and The Woosleys will be ministering by Word and Music. 
CATEGORIES:General
END:VEVENT
BEGIN:VEVENT
UID:892-90
LOCATION:Cross and Crown CITY CHURCH 510 Park Avenue  Newport KY 41071
SUMMARY:Evening Praise and Worship Service
DTSTAMP:20181220T020000Z
ORGANIZER;CN=admin:MAILTO:crossandcrowncc@yahoo.com
DTSTART;TZID=America/Phoenix:20181220T020000Z
DTEND;TZID=America/Phoenix:20181220T033000Z
URL;VALUE=URI:https://www.morganfamilyrevival.com/my-calendar/
DESCRIPTION:The Morgans and The Woosleys will be ministering by Word and Music. 
CATEGORIES:General
END:VEVENT
BEGIN:VEVENT
UID:891-89
LOCATION:Cross and Crown CITY CHURCH 510 Park Avenue  Newport KY 41071
SUMMARY:Evening Praise and Worship Service
DTSTAMP:20181213T020000Z
ORGANIZER;CN=admin:MAILTO:crossandcrowncc@yahoo.com
DTSTART;TZID=America/Phoenix:20181213T020000Z
DTEND;TZID=America/Phoenix:20181213T033000Z
URL;VALUE=URI:https://www.morganfamilyrevival.com/my-calendar/
DESCRIPTION:The Morgans and The Woosleys will be ministering by Word and Music. 
CATEGORIES:General
END:VEVENT
BEGIN:VEVENT
UID:890-88
LOCATION:Cross and Crown CITY CHURCH 510 Park Avenue  Newport KY 41071
SUMMARY:Evening Praise and Worship Service
DTSTAMP:20181206T020000Z
ORGANIZER;CN=admin:MAILTO:crossandcrowncc@yahoo.com
DTSTART;TZID=America/Phoenix:20181206T020000Z
DTEND;TZID=America/Phoenix:20181206T033000Z
URL;VALUE=URI:https://www.morganfamilyrevival.com/my-calendar/
DESCRIPTION:The Morgans and The Woosleys will be ministering by Word and Music. 
CATEGORIES:General
END:VEVENT
BEGIN:VEVENT
UID:889-87
LOCATION:Cross and Crown CITY CHURCH 510 Park Avenue  Newport KY 41071
SUMMARY:Evening Praise and Worship Service
DTSTAMP:20181129T020000Z
ORGANIZER;CN=admin:MAILTO:crossandcrowncc@yahoo.com
DTSTART;TZID=America/Phoenix:20181129T020000Z
DTEND;TZID=America/Phoenix:20181129T033000Z
URL;VALUE=URI:https://www.morganfamilyrevival.com/my-calendar/
DESCRIPTION:The Morgans and The Woosleys will be ministering by Word and Music. 
CATEGORIES:General
END:VEVENT
BEGIN:VEVENT
UID:888-86
LOCATION:Cross and Crown CITY CHURCH 510 Park Avenue  Newport KY 41071
SUMMARY:Evening Praise and Worship Service
DTSTAMP:20181122T020000Z
ORGANIZER;CN=admin:MAILTO:crossandcrowncc@yahoo.com
DTSTART;TZID=America/Phoenix:20181122T020000Z
DTEND;TZID=America/Phoenix:20181122T033000Z
URL;VALUE=URI:https://www.morganfamilyrevival.com/my-calendar/
DESCRIPTION:The Morgans and The Woosleys will be ministering by Word and Music. 
CATEGORIES:General
END:VEVENT
BEGIN:VEVENT
UID:887-85
LOCATION:Cross and Crown CITY CHURCH 510 Park Avenue  Newport KY 41071
SUMMARY:Evening Praise and Worship Service
DTSTAMP:20181115T020000Z
ORGANIZER;CN=admin:MAILTO:crossandcrowncc@yahoo.com
DTSTART;TZID=America/Phoenix:20181115T020000Z
DTEND;TZID=America/Phoenix:20181115T033000Z
URL;VALUE=URI:https://www.morganfamilyrevival.com/my-calendar/
DESCRIPTION:The Morgans and The Woosleys will be ministering by Word and Music. 
CATEGORIES:General
END:VEVENT
BEGIN:VEVENT
UID:886-84
LOCATION:Cross and Crown CITY CHURCH 510 Park Avenue  Newport KY 41071
SUMMARY:Evening Praise and Worship Service
DTSTAMP:20181108T020000Z
ORGANIZER;CN=admin:MAILTO:crossandcrowncc@yahoo.com
DTSTART;TZID=America/Phoenix:20181108T020000Z
DTEND;TZID=America/Phoenix:20181108T033000Z
URL;VALUE=URI:https://www.morganfamilyrevival.com/my-calendar/
DESCRIPTION:The Morgans and The Woosleys will be ministering by Word and Music. 
CATEGORIES:General
END:VEVENT
BEGIN:VEVENT
UID:885-83
LOCATION:Cross and Crown CITY CHURCH 510 Park Avenue  Newport KY 41071
SUMMARY:Evening Praise and Worship Service
DTSTAMP:20181101T020000Z
ORGANIZER;CN=admin:MAILTO:crossandcrowncc@yahoo.com
DTSTART;TZID=America/Phoenix:20181101T020000Z
DTEND;TZID=America/Phoenix:20181101T033000Z
URL;VALUE=URI:https://www.morganfamilyrevival.com/my-calendar/
DESCRIPTION:The Morgans and The Woosleys will be ministering by Word and Music. 
CATEGORIES:General
END:VEVENT
BEGIN:VEVENT
UID:884-82
LOCATION:Cross and Crown CITY CHURCH 510 Park Avenue  Newport KY 41071
SUMMARY:Evening Praise and Worship Service
DTSTAMP:20181025T020000Z
ORGANIZER;CN=admin:MAILTO:crossandcrowncc@yahoo.com
DTSTART;TZID=America/Phoenix:20181025T020000Z
DTEND;TZID=America/Phoenix:20181025T033000Z
URL;VALUE=URI:https://www.morganfamilyrevival.com/my-calendar/
DESCRIPTION:The Morgans and The Woosleys will be ministering by Word and Music. 
CATEGORIES:General
END:VEVENT
BEGIN:VEVENT
UID:883-81
LOCATION:Cross and Crown CITY CHURCH 510 Park Avenue  Newport KY 41071
SUMMARY:Evening Praise and Worship Service
DTSTAMP:20181018T020000Z
ORGANIZER;CN=admin:MAILTO:crossandcrowncc@yahoo.com
DTSTART;TZID=America/Phoenix:20181018T020000Z
DTEND;TZID=America/Phoenix:20181018T033000Z
URL;VALUE=URI:https://www.morganfamilyrevival.com/my-calendar/
DESCRIPTION:The Morgans and The Woosleys will be ministering by Word and Music. 
CATEGORIES:General
END:VEVENT
BEGIN:VEVENT
UID:882-80
LOCATION:Cross and Crown CITY CHURCH 510 Park Avenue  Newport KY 41071
SUMMARY:Evening Praise and Worship Service
DTSTAMP:20181011T020000Z
ORGANIZER;CN=admin:MAILTO:crossandcrowncc@yahoo.com
DTSTART;TZID=America/Phoenix:20181011T020000Z
DTEND;TZID=America/Phoenix:20181011T033000Z
URL;VALUE=URI:https://www.morganfamilyrevival.com/my-calendar/
DESCRIPTION:The Morgans and The Woosleys will be ministering by Word and Music. 
CATEGORIES:General
END:VEVENT
BEGIN:VEVENT
UID:881-79
LOCATION:Cross and Crown CITY CHURCH 510 Park Avenue  Newport KY 41071
SUMMARY:Evening Praise and Worship Service
DTSTAMP:20181004T020000Z
ORGANIZER;CN=admin:MAILTO:crossandcrowncc@yahoo.com
DTSTART;TZID=America/Phoenix:20181004T020000Z
DTEND;TZID=America/Phoenix:20181004T033000Z
URL;VALUE=URI:https://www.morganfamilyrevival.com/my-calendar/
DESCRIPTION:The Morgans and The Woosleys will be ministering by Word and Music. 
CATEGORIES:General
END:VEVENT
BEGIN:VEVENT
UID:869-67
LOCATION:Cross and Crown CITY CHURCH 510 Park Avenue  Newport KY 41071
SUMMARY:Evening Praise and Worship Service
DTSTAMP:20181022T010000Z
ORGANIZER;CN=admin:MAILTO:crossandcrowncc@yahoo.com
DTSTART;TZID=America/Phoenix:20181022T010000Z
DTEND;TZID=America/Phoenix:20181022T023000Z
URL;VALUE=URI:https://www.morganfamilyrevival.com/my-calendar/
DESCRIPTION:The Morgans and The Woosleys will be ministering by Word and Music. 
CATEGORIES:General
END:VEVENT
BEGIN:VEVENT
UID:879-77
LOCATION:Cross and Crown CITY CHURCH 510 Park Avenue  Newport KY 41071
SUMMARY:Evening Praise and Worship Service
DTSTAMP:20181231T010000Z
ORGANIZER;CN=admin:MAILTO:crossandcrowncc@yahoo.com
DTSTART;TZID=America/Phoenix:20181231T010000Z
DTEND;TZID=America/Phoenix:20181231T023000Z
URL;VALUE=URI:https://www.morganfamilyrevival.com/my-calendar/
DESCRIPTION:The Morgans and The Woosleys will be ministering by Word and Music. 
CATEGORIES:General
END:VEVENT
BEGIN:VEVENT
UID:864-62
LOCATION:Cross and Crown CITY CHURCH 510 Park Avenue  Newport KY 41071
SUMMARY:Praise and Worship Service
DTSTAMP:20181230T173000Z
ORGANIZER;CN=admin:MAILTO:crossandcrowncc@yahoo.com
DTSTART;TZID=America/Phoenix:20181230T173000Z
DTEND;TZID=America/Phoenix:20181230T193000Z
URL;VALUE=URI:https://www.morganfamilyrevival.com/my-calendar/
DESCRIPTION:The Morgans and The Woosleys will be ministering by Word and Music. 
CATEGORIES:General
END:VEVENT
BEGIN:VEVENT
UID:878-76
LOCATION:Cross and Crown CITY CHURCH 510 Park Avenue  Newport KY 41071
SUMMARY:Evening Praise and Worship Service
DTSTAMP:20181224T010000Z
ORGANIZER;CN=admin:MAILTO:crossandcrowncc@yahoo.com
DTSTART;TZID=America/Phoenix:20181224T010000Z
DTEND;TZID=America/Phoenix:20181224T023000Z
URL;VALUE=URI:https://www.morganfamilyrevival.com/my-calendar/
DESCRIPTION:The Morgans and The Woosleys will be ministering by Word and Music. 
CATEGORIES:General
END:VEVENT
BEGIN:VEVENT
UID:877-75
LOCATION:Cross and Crown CITY CHURCH 510 Park Avenue  Newport KY 41071
SUMMARY:Evening Praise and Worship Service
DTSTAMP:20181217T010000Z
ORGANIZER;CN=admin:MAILTO:crossandcrowncc@yahoo.com
DTSTART;TZID=America/Phoenix:20181217T010000Z
DTEND;TZID=America/Phoenix:20181217T023000Z
URL;VALUE=URI:https://www.morganfamilyrevival.com/my-calendar/
DESCRIPTION:The Morgans and The Woosleys will be ministering by Word and Music. 
CATEGORIES:General
END:VEVENT
BEGIN:VEVENT
UID:876-74
LOCATION:Cross and Crown CITY CHURCH 510 Park Avenue  Newport KY 41071
SUMMARY:Evening Praise and Worship Service
DTSTAMP:20181210T010000Z
ORGANIZER;CN=admin:MAILTO:crossandcrowncc@yahoo.com
DTSTART;TZID=America/Phoenix:20181210T010000Z
DTEND;TZID=America/Phoenix:20181210T023000Z
URL;VALUE=URI:https://www.morganfamilyrevival.com/my-calendar/
DESCRIPTION:The Morgans and The Woosleys will be ministering by Word and Music. 
CATEGORIES:General
END:VEVENT
BEGIN:VEVENT
UID:875-73
LOCATION:Cross and Crown CITY CHURCH 510 Park Avenue  Newport KY 41071
SUMMARY:Evening Praise and Worship Service
DTSTAMP:20181203T010000Z
ORGANIZER;CN=admin:MAILTO:crossandcrowncc@yahoo.com
DTSTART;TZID=America/Phoenix:20181203T010000Z
DTEND;TZID=America/Phoenix:20181203T023000Z
URL;VALUE=URI:https://www.morganfamilyrevival.com/my-calendar/
DESCRIPTION:The Morgans and The Woosleys will be ministering by Word and Music. 
CATEGORIES:General
END:VEVENT
BEGIN:VEVENT
UID:874-72
LOCATION:Cross and Crown CITY CHURCH 510 Park Avenue  Newport KY 41071
SUMMARY:Evening Praise and Worship Service
DTSTAMP:20181126T010000Z
ORGANIZER;CN=admin:MAILTO:crossandcrowncc@yahoo.com
DTSTART;TZID=America/Phoenix:20181126T010000Z
DTEND;TZID=America/Phoenix:20181126T023000Z
URL;VALUE=URI:https://www.morganfamilyrevival.com/my-calendar/
DESCRIPTION:The Morgans and The Woosleys will be ministering by Word and Music. 
CATEGORIES:General
END:VEVENT
BEGIN:VEVENT
UID:873-71
LOCATION:Cross and Crown CITY CHURCH 510 Park Avenue  Newport KY 41071
SUMMARY:Evening Praise and Worship Service
DTSTAMP:20181119T010000Z
ORGANIZER;CN=admin:MAILTO:crossandcrowncc@yahoo.com
DTSTART;TZID=America/Phoenix:20181119T010000Z
DTEND;TZID=America/Phoenix:20181119T023000Z
URL;VALUE=URI:https://www.morganfamilyrevival.com/my-calendar/
DESCRIPTION:The Morgans and The Woosleys will be ministering by Word and Music. 
CATEGORIES:General
END:VEVENT
BEGIN:VEVENT
UID:872-70
LOCATION:Cross and Crown CITY CHURCH 510 Park Avenue  Newport KY 41071
SUMMARY:Evening Praise and Worship Service
DTSTAMP:20181112T010000Z
ORGANIZER;CN=admin:MAILTO:crossandcrowncc@yahoo.com
DTSTART;TZID=America/Phoenix:20181112T010000Z
DTEND;TZID=America/Phoenix:20181112T023000Z
URL;VALUE=URI:https://www.morganfamilyrevival.com/my-calendar/
DESCRIPTION:The Morgans and The Woosleys will be ministering by Word and Music. 
CATEGORIES:General
END:VEVENT
BEGIN:VEVENT
UID:870-68
LOCATION:Cross and Crown CITY CHURCH 510 Park Avenue  Newport KY 41071
SUMMARY:Evening Praise and Worship Service
DTSTAMP:20181029T010000Z
ORGANIZER;CN=admin:MAILTO:crossandcrowncc@yahoo.com
DTSTART;TZID=America/Phoenix:20181029T010000Z
DTEND;TZID=America/Phoenix:20181029T023000Z
URL;VALUE=URI:https://www.morganfamilyrevival.com/my-calendar/
DESCRIPTION:The Morgans and The Woosleys will be ministering by Word and Music. 
CATEGORIES:General
END:VEVENT
BEGIN:VEVENT
UID:866-64
LOCATION:Cross and Crown CITY CHURCH 510 Park Avenue  Newport KY 41071
SUMMARY:Praise and Worship Service
DTSTAMP:20181028T173000Z
ORGANIZER;CN=admin:MAILTO:crossandcrowncc@yahoo.com
DTSTART;TZID=America/Phoenix:20181028T173000Z
DTEND;TZID=America/Phoenix:20181028T193000Z
URL;VALUE=URI:https://www.morganfamilyrevival.com/my-calendar/
DESCRIPTION:The Morgans and The Woosleys will be ministering by Word and Music. 
CATEGORIES:General
END:VEVENT
BEGIN:VEVENT
UID:868-66
LOCATION:Cross and Crown CITY CHURCH 510 Park Avenue  Newport KY 41071
SUMMARY:Evening Praise and Worship Service
DTSTAMP:20181015T010000Z
ORGANIZER;CN=admin:MAILTO:crossandcrowncc@yahoo.com
DTSTART;TZID=America/Phoenix:20181015T010000Z
DTEND;TZID=America/Phoenix:20181015T023000Z
URL;VALUE=URI:https://www.morganfamilyrevival.com/my-calendar/
DESCRIPTION:The Morgans and The Woosleys will be ministering by Word and Music. 
CATEGORIES:General
END:VEVENT
BEGIN:VEVENT
UID:867-65
LOCATION:Cross and Crown CITY CHURCH 510 Park Avenue  Newport KY 41071
SUMMARY:Evening Praise and Worship Service
DTSTAMP:20181008T010000Z
ORGANIZER;CN=admin:MAILTO:crossandcrowncc@yahoo.com
DTSTART;TZID=America/Phoenix:20181008T010000Z
DTEND;TZID=America/Phoenix:20181008T023000Z
URL;VALUE=URI:https://www.morganfamilyrevival.com/my-calendar/
DESCRIPTION:The Morgans and The Woosleys will be ministering by Word and Music. 
CATEGORIES:General
END:VEVENT
END:VCALENDAR